BEGIN:VCALENDAR
VERSION:2.0
PRODID:-//wp-events-plugin.com//7.2.3.1//EN
BEGIN:VEVENT
UID:0-584@cellieu.fr
DTSTART:20231008T160000Z
DTEND:20231008T160000Z
DTSTAMP:20230907T130728Z
URL:https://cellieu.fr/press3/mairie/events/rhino-jazz-harold-charre-solo/
SUMMARY:Rhino Jazz Harold Charre Solo
DESCRIPTION:Rhino Jazz \n8 octobre 2023 17h00\n\nRéservation RHINOJAZZ.CO
 M/HAROLD-CHARRE-SOLO/\n
ATTACH;FMTTYPE=image/jpeg:https://cellieu.fr/press3/mairie/wp-content/uplo
 ads/sites/2/2021/10/logo-cellieu-e1643359422870.jpg
CATEGORIES:Privée
LOCATION:Eglise St Philibert\, 1 rue st joseph\, Cellieu\, 42320\, France
GEO:45.5225909732548;4.5422756435418705
X-APPLE-STRUCTURED-LOCATION;VALUE=URI;X-ADDRESS=1 rue st joseph\, Cellieu\,
  42320\, France;X-APPLE-RADIUS=100;X-TITLE=Eglise St Philibert:geo:45.5225
 909732548,4.5422756435418705
END:VEVENT
END:VCALENDAR