BEGIN:VCALENDAR
VERSION:2.0
PRODID:-//wp-events-plugin.com//7.2.3.1//EN
BEGIN:VEVENT
UID:0-554@cellieu.fr
DTSTART:20230304T130000Z
DTEND:20230304T130000Z
DTSTAMP:20230228T140458Z
URL:https://cellieu.fr/press3/mairie/events/seance-de-sophrologie-samedi-4
 -mars/
SUMMARY:Séance de Sophrologie-samedi 4 Mars
DESCRIPTION:Séance de Sophrologie\nSamedi 4 MARS à 14h\nMaison des associ
 ations- 8 personnes maximum pour que la séance ait lieu\n(se renseigner a
 uprès de la MPT)\n
ATTACH;FMTTYPE=image/jpeg:https://cellieu.fr/press3/mairie/wp-content/uplo
 ads/sites/2/2014/07/logo_mpt.jpg
CATEGORIES:Public
LOCATION:Maison des Associations\, Route du marché\, Cellieu\, 42320\, Fra
 nce
GEO:45.5234081;4.54262319999998
X-APPLE-STRUCTURED-LOCATION;VALUE=URI;X-ADDRESS=Route du marché\, Cellieu\
 , 42320\, France;X-APPLE-RADIUS=100;X-TITLE=Maison des Associations:geo:45
 .5234081,4.54262319999998
END:VEVENT
END:VCALENDAR