BEGIN:VCALENDAR
VERSION:2.0
PRODID:-//wp-events-plugin.com//7.2.3.1//EN
BEGIN:VEVENT
UID:2-109@cellieu.fr
DTSTART;VALUE=DATE:20150125
DTEND;VALUE=DATE:20150126
DTSTAMP:20150120T133028Z
URL:https://cellieu.fr/press3/mairie/events/sortie-de-ski-les-saisies/
SUMMARY:Sortie de Ski : Les Saisies
DESCRIPTION:Organisateur : Association APEL\n\nTarif :\n\n	Ski alpin (car +
  forfait) : 42.50€\n	Ski de fond (car + forfait) : 30€\n	Transport uni
 quement : 23.50€\n\nPour les enfants de moins de 5 ans : tarif unique de
  23€.\n\nPlus d'informations et pour les inscriptions : ici\n\nEDIT : 20
  janvier 2015 : sortie annulée faute de participants
ATTACH;FMTTYPE=image/jpeg:https://cellieu.fr/press3/mairie/wp-content/uplo
 ads/sites/2/2014/12/2015-01-25-apel-ski-image.jpg
CATEGORIES:APEL
LOCATION:Autres\, Adresse\, Cellieu\, France
GEO:45.52306799999999;4.541575999999964
X-APPLE-STRUCTURED-LOCATION;VALUE=URI;X-ADDRESS=Adresse\, Cellieu\, France;
 X-APPLE-RADIUS=100;X-TITLE=Autres:geo:45.52306799999999,4.541575999999964
END:VEVENT
END:VCALENDAR