BEGIN:VCALENDAR
VERSION:2.0
PRODID:-//wp-events-plugin.com//7.2.3.1//EN
BEGIN:VEVENT
UID:0-691@cellieu.fr
DTSTART:20250504T050000Z
DTEND:20250504T150000Z
DTSTAMP:20250410T114405Z
URL:https://cellieu.fr/press3/mairie/events/sou-des-ecoles-troc-puces/
SUMMARY:Sou des Ecoles -Troc Puces
DESCRIPTION:
ATTACH;FMTTYPE=image/jpeg:https://cellieu.fr/press3/mairie/wp-content/uplo
 ads/sites/2/2017/06/logo_sou_des_ecoles.jpg
CATEGORIES:Public
LOCATION:Complexe Sportif Cellieu-Chagnon\, 541 Route du Trève\, Cellieu\,
  42320\, France
GEO:45.5309771;4.54462280000007
X-APPLE-STRUCTURED-LOCATION;VALUE=URI;X-ADDRESS=541 Route du Trève\, Celli
 eu\, 42320\, France;X-APPLE-RADIUS=100;X-TITLE=Complexe Sportif Cellieu-Ch
 agnon:geo:45.5309771,4.54462280000007
END:VEVENT
END:VCALENDAR