BEGIN:VCALENDAR
VERSION:2.0
PRODID:-//wp-events-plugin.com//7.2.3.1//EN
BEGIN:VEVENT
UID:0-436@cellieu.fr
DTSTART:20190826T130000Z
DTEND:20190826T150000Z
DTSTAMP:20190731T214808Z
URL:https://cellieu.fr/press3/mairie/events/stas-rentree-2019/
SUMMARY:STAS - Rentrée 2019
DESCRIPTION:Rendez-vous sur le stand STAS.\n\n[pdf-embedder url="https://ce
 llieu.fr/press3/mairie/wp-content/uploads/sites/2/2019/07/2019-07-stas.pdf
 "]
CATEGORIES:Mairie,Public
LOCATION:Place de Verdun\, place de verdun\, Cellieu\, 42320\, France
GEO:45.52291890000001;4.541450700000041
X-APPLE-STRUCTURED-LOCATION;VALUE=URI;X-ADDRESS=place de verdun\, Cellieu\,
  42320\, France;X-APPLE-RADIUS=100;X-TITLE=Place de Verdun:geo:45.52291890
 000001,4.541450700000041
END:VEVENT
END:VCALENDAR