BEGIN:VCALENDAR
VERSION:2.0
PRODID:-//wp-events-plugin.com//7.2.3.1//EN
BEGIN:VEVENT
UID:2-246@cellieu.fr
DTSTART:20161203T110000Z
DTEND:20161203T170000Z
DTSTAMP:20161202T155232Z
URL:https://cellieu.fr/press3/mairie/events/telethon-2016-2/
SUMMARY:Téléthon 2016
DESCRIPTION:Organisateur : Maison Pour Tous\n\nPlus d'informations sur le s
 ite : http://www.mptcellieu.fr
ATTACH;FMTTYPE=image/jpeg:https://cellieu.fr/press3/mairie/wp-content/uplo
 ads/sites/2/2014/10/evenement_telethon.jpg
CATEGORIES:MPT,Public
LOCATION:Salle Roger Farce\, 541 Route du Trève\, Cellieu\, 42320\, France
GEO:45.5312914427993;4.544969748775088
X-APPLE-STRUCTURED-LOCATION;VALUE=URI;X-ADDRESS=541 Route du Trève\, Celli
 eu\, 42320\, France;X-APPLE-RADIUS=100;X-TITLE=Salle Roger Farce:geo:45.53
 12914427993,4.544969748775088
END:VEVENT
END:VCALENDAR