BEGIN:VCALENDAR
VERSION:2.0
PRODID:-//wp-events-plugin.com//7.2.3.1//EN
BEGIN:VEVENT
UID:2-245@cellieu.fr
DTSTART:20161202T173000Z
DTEND:20161203T110000Z
DTSTAMP:20161202T155140Z
URL:https://cellieu.fr/press3/mairie/events/telethon-2016/
SUMMARY:Téléthon 2016
DESCRIPTION:Organisateur : Maison Pour Tous\n\nPlus d'informations sur le s
 ite : http://www.mptcellieu.fr\n\n&nbsp\;
ATTACH;FMTTYPE=image/jpeg:https://cellieu.fr/press3/mairie/wp-content/uplo
 ads/sites/2/2014/10/evenement_telethon.jpg
CATEGORIES:MPT,Public
LOCATION:Salle Georges Brassens\, 25 place de verdun\, Cellieu\, 42320\, Fr
 ance
GEO:45.52291890000001;4.541450700000041
X-APPLE-STRUCTURED-LOCATION;VALUE=URI;X-ADDRESS=25 place de verdun\, Cellie
 u\, 42320\, France;X-APPLE-RADIUS=100;X-TITLE=Salle Georges Brassens:geo:4
 5.52291890000001,4.541450700000041
END:VEVENT
END:VCALENDAR