BEGIN:VCALENDAR
VERSION:2.0
PRODID:-//wp-events-plugin.com//7.2.3.1//EN
BEGIN:VEVENT
UID:0-372@cellieu.fr
DTSTART:20181208T110000Z
DTEND:20181208T163000Z
DTSTAMP:20181130T102837Z
URL:https://cellieu.fr/press3/mairie/events/telethon-2018-apres-midi/
SUMMARY:Téléthon 2018 - Après-Midi
DESCRIPTION:Programme :&nbsp\;\n\n\n\n&nbsp\;\nNous avons besoin de&nbsp\;:
 \n\n 	bénévoles pour la tenue des stands (créneau de 2h)\n 	lots pour l
 a tombola\n 	denrées pour confection de crêpes\n\n&nbsp\;\n\n[pdf-embedd
 er url="https://cellieu.fr/press3/mairie/wp-content/uploads/sites/2/2018/1
 1/2018-12-telethon.pdf"]
ATTACH;FMTTYPE=image/jpeg:https://cellieu.fr/press3/mairie/wp-content/uplo
 ads/sites/2/2014/10/evenement_telethon.jpg
CATEGORIES:Autre,Public
LOCATION:Salle Roger Farce\, 541 Route du Trève\, Cellieu\, 42320\, France
GEO:45.5312914427993;4.544969748775088
X-APPLE-STRUCTURED-LOCATION;VALUE=URI;X-ADDRESS=541 Route du Trève\, Celli
 eu\, 42320\, France;X-APPLE-RADIUS=100;X-TITLE=Salle Roger Farce:geo:45.53
 12914427993,4.544969748775088
END:VEVENT
END:VCALENDAR