BEGIN:VCALENDAR
VERSION:2.0
PRODID:-//wp-events-plugin.com//7.2.3.1//EN
BEGIN:VEVENT
UID:2-114@cellieu.fr
DTSTART:20150207T190000Z
DTEND:20150207T220000Z
DTSTAMP:20150125T204337Z
URL:https://cellieu.fr/press3/mairie/events/theatre-tupp-ou-la-coupeuse-de
 -feu/
SUMMARY:Théatre : Tupp' ou la coupeuse de Feu
DESCRIPTION:Organisateur : Association Maison pour Tous.\nPlus d'informatio
 ns : (cliquer pour agrandir) \n&nbsp\;
ATTACH;FMTTYPE=image/jpeg:https://cellieu.fr/press3/mairie/wp-content/uplo
 ads/sites/2/2015/01/2015-02-07-comedie.jpg
CATEGORIES:MPT,Public
LOCATION:Salle Georges Brassens\, 25 place de verdun\, Cellieu\, 42320\, Fr
 ance
GEO:45.52291890000001;4.541450700000041
X-APPLE-STRUCTURED-LOCATION;VALUE=URI;X-ADDRESS=25 place de verdun\, Cellie
 u\, 42320\, France;X-APPLE-RADIUS=100;X-TITLE=Salle Georges Brassens:geo:4
 5.52291890000001,4.541450700000041
END:VEVENT
END:VCALENDAR