BEGIN:VCALENDAR
VERSION:2.0
PRODID:-//wp-events-plugin.com//7.2.3.1//EN
BEGIN:VEVENT
UID:0-451@cellieu.fr
DTSTART:20191123T130000Z
DTEND:20191123T160000Z
DTSTAMP:20191030T222412Z
URL:https://cellieu.fr/press3/mairie/events/un-temps-de-sophrologie-novemb
 re-2019/
SUMMARY:Un temps de sophrologie - novembre 2019
DESCRIPTION:Organisateur : Maison Pour Tous\n\n&nbsp\;\n\n[pdf-embedder url
 ="https://cellieu.fr/press3/mairie/wp-content/uploads/sites/2/2019/10/2019
 -11-mpt-SOPRHO-NOV-2019-1.pdf" title="2019-11-mpt-SOPRHO NOV 2019"]
ATTACH;FMTTYPE=image/jpeg:https://cellieu.fr/press3/mairie/wp-content/uplo
 ads/sites/2/2014/07/logo_mpt.jpg
CATEGORIES:MPT,Public
LOCATION:Maison des Associations\, Route du marché\, Cellieu\, 42320\, Fra
 nce
GEO:45.5234081;4.54262319999998
X-APPLE-STRUCTURED-LOCATION;VALUE=URI;X-ADDRESS=Route du marché\, Cellieu\
 , 42320\, France;X-APPLE-RADIUS=100;X-TITLE=Maison des Associations:geo:45
 .5234081,4.54262319999998
END:VEVENT
END:VCALENDAR